BEGIN:VCALENDAR
VERSION:2.0
PRODID:-//Star98 - ECPv6.15.20//NONSGML v1.0//EN
CALSCALE:GREGORIAN
METHOD:PUBLISH
X-WR-CALNAME:Star98
X-ORIGINAL-URL:https://star98radio.com
X-WR-CALDESC:Events for Star98
REFRESH-INTERVAL;VALUE=DURATION:PT1H
X-Robots-Tag:noindex
X-PUBLISHED-TTL:PT1H
BEGIN:VTIMEZONE
TZID:America/Denver
BEGIN:DAYLIGHT
TZOFFSETFROM:-0700
TZOFFSETTO:-0600
TZNAME:MDT
DTSTART:20180311T090000
END:DAYLIGHT
BEGIN:STANDARD
TZOFFSETFROM:-0600
TZOFFSETTO:-0700
TZNAME:MST
DTSTART:20181104T080000
END:STANDARD
BEGIN:DAYLIGHT
TZOFFSETFROM:-0700
TZOFFSETTO:-0600
TZNAME:MDT
DTSTART:20190310T090000
END:DAYLIGHT
BEGIN:STANDARD
TZOFFSETFROM:-0600
TZOFFSETTO:-0700
TZNAME:MST
DTSTART:20191103T080000
END:STANDARD
BEGIN:DAYLIGHT
TZOFFSETFROM:-0700
TZOFFSETTO:-0600
TZNAME:MDT
DTSTART:20200308T090000
END:DAYLIGHT
BEGIN:STANDARD
TZOFFSETFROM:-0600
TZOFFSETTO:-0700
TZNAME:MST
DTSTART:20201101T080000
END:STANDARD
BEGIN:DAYLIGHT
TZOFFSETFROM:-0700
TZOFFSETTO:-0600
TZNAME:MDT
DTSTART:20210314T090000
END:DAYLIGHT
BEGIN:STANDARD
TZOFFSETFROM:-0600
TZOFFSETTO:-0700
TZNAME:MST
DTSTART:20211107T080000
END:STANDARD
END:VTIMEZONE
BEGIN:VEVENT
DTSTART;TZID=America/Denver:20200415T193000
DTEND;TZID=America/Denver:20200415T193000
DTSTAMP:20260419T064712
CREATED:20200129T200326Z
LAST-MODIFIED:20200129T200326Z
UID:61898-1586979000-1586979000@star98radio.com
SUMMARY:LAUREN DAIGLE
DESCRIPTION:Due to overwhelming demand\, two-time GRAMMY Award winner Lauren Daigle has expanded her first headline arena tour with 13 additional dates. The “Lauren Daigle World Tour\,” follows 81 sold-out performances that have taken place since the release of her GRAMMY Award winning album\, Look Up Child. The new dates include three shows in California as well as an additional home-state performance at the Smoothie King Center in New Orleans\, LA.
URL:https://star98radio.com/event/lauren-daigle/
LOCATION:Extra Mile Arena\, 1401 Bronco Lane\, Boise\, ID\, 83725\, United States
CATEGORIES:Concerts
END:VEVENT
BEGIN:VEVENT
DTSTART;TZID=America/Denver:20200414T193000
DTEND;TZID=America/Denver:20200414T233000
DTSTAMP:20260419T064712
CREATED:20200129T185200Z
LAST-MODIFIED:20200129T185200Z
UID:61851-1586892600-1586907000@star98radio.com
SUMMARY:LAUREN DAIGLE
DESCRIPTION:Due to overwhelming demand\, two-time GRAMMY Award winner Lauren Daigle has expanded her first headline arena tour with 13 additional dates – including Salt Lake City. The “Lauren Daigle World Tour\,” follows 81 sold-out performances that have taken place since the release of her GRAMMY Award winning album\, Look Up Child. The new dates include three shows in California as well as an additional home-state performance at the Smoothie King Center in New Orleans\, LA. Folk/soul duo JOHNNYSWIM will be joining Daigle on the tour. \nThe “Lauren Daigle World Tour” features an all new stage production\, design and set list that will be highlighted by Daigle’s raw vocal power and stage presence. It kicks off January 18th in Melbourne\, Australia and will include a performance at New Zealand’s Festival One. It will then launch in the US on February 20th in Pensacola\, Florida and will include stops in New York\, Nashville\, Houston\, Boston\, Dallas and north of the border in Toronto and Montreal. She’ll feature some of her hits\, including her latest single “Rescue” and the double-Platinum selling #1 single “You Say\,” as well as tracks from her previous platinum-selling album\, How Can It Be.
URL:https://star98radio.com/event/laurendaigle/
LOCATION:Maverik Center\, 3200 S. Decker Lake Dr. \, Salt Lake City\, UT\, United States
CATEGORIES:Concerts
END:VEVENT
BEGIN:VEVENT
DTSTART;TZID=America/Denver:20200328T190000
DTEND;TZID=America/Denver:20200328T220000
DTSTAMP:20260419T064712
CREATED:20200129T200508Z
LAST-MODIFIED:20200129T200508Z
UID:61901-1585422000-1585432800@star98radio.com
SUMMARY:JOJO SIWA
DESCRIPTION:Nickelodeon star\, YouTube sensation and 2019’s hottest breakthrough pop artist JoJo Siwa is adding 50 new dates across North America to her wildly popular concert: Nickelodeon’s JoJo Siwa D.R.E.A.M. The Tour\, bringing the total number of shows to 148. Siwa kicks off her new 2020 dates on March 11 in Colorado Springs and will return to many cities including New York\, where she will headline the legendary venue Madison Square Garden. JoJo will continue to new venues including: Allstate Arena in Rosemont\, Scotiabank Saddledome in Calgary\, Capital One Arena in Washington\, D.C.\, and AmericanAirlines Arena in Miami\, concluding in North Little Rock on June 6.
URL:https://star98radio.com/event/jojo-siwa-2/
LOCATION:Extra Mile Arena\, 1401 Bronco Lane\, Boise\, ID\, 83725\, United States
CATEGORIES:Concerts
END:VEVENT
BEGIN:VEVENT
DTSTART;TZID=America/Denver:20200327T190000
DTEND;TZID=America/Denver:20200327T230000
DTSTAMP:20260419T064712
CREATED:20200129T184844Z
LAST-MODIFIED:20200129T184844Z
UID:61848-1585335600-1585350000@star98radio.com
SUMMARY:JOJO SIWA
DESCRIPTION:JoJo Siwa will bring her D.R.E.A.M. The Tour to Vivint Smart Home Arena on Friday\, March 27\, 2020
URL:https://star98radio.com/event/jojo-siwa/
LOCATION:Delta Center\, 301 West South Temple\, Salt Lake City\, UT\, 84101\, United States
CATEGORIES:Concerts
END:VEVENT
BEGIN:VEVENT
DTSTART;TZID=America/Denver:20200326T193000
DTEND;TZID=America/Denver:20200326T230000
DTSTAMP:20260419T064712
CREATED:20191120T200313Z
LAST-MODIFIED:20191120T200313Z
UID:61800-1585251000-1585263600@star98radio.com
SUMMARY:CELINE DION
DESCRIPTION:Courage World Tour\nTICKETS ON SALE OCTOBER 4 AT 10:00 AM! \nOne of the most immediately recognized and widely respected superstars in pop music history\, Céline Dion\, will bring her COURAGE WORLD TOUR to Salt Lake City in March 2020!
URL:https://star98radio.com/event/celine-dion/
LOCATION:Delta Center\, 301 West South Temple\, Salt Lake City\, UT\, 84101\, United States
CATEGORIES:Concerts
END:VEVENT
BEGIN:VEVENT
DTSTART;TZID=America/Denver:20200321T203000
DTEND;TZID=America/Denver:20200321T233000
DTSTAMP:20260419T064712
CREATED:20191120T200105Z
LAST-MODIFIED:20191120T200105Z
UID:61796-1584822600-1584833400@star98radio.com
SUMMARY:POST MALONE
DESCRIPTION:Runaway Tour\nPost Malone adds a second leg to the Runaway Tour with Swae Lee and Tyla Yaweh! home arena \n 
URL:https://star98radio.com/event/post-malone-3/
LOCATION:Delta Center\, 301 West South Temple\, Salt Lake City\, UT\, 84101\, United States
CATEGORIES:Concerts
END:VEVENT
BEGIN:VEVENT
DTSTART;TZID=America/Denver:20200209T200000
DTEND;TZID=America/Denver:20200209T230000
DTSTAMP:20260419T064712
CREATED:20200129T195658Z
LAST-MODIFIED:20200129T195658Z
UID:61891-1581278400-1581289200@star98radio.com
SUMMARY:AMERICAN AUTHORS
DESCRIPTION:Multi-platinum selling artists\, American Authors\, are back with a brand new single\, “Deep Water.” The anthemic track\, which showcases dynamic percussion and emotion-drenched vocals\, was released May 18th\, via Island Records. When asked about the track\, lead singer Zac Barnett states\, “Deep Water is about treading through the hardest times with the people that are closest to you. We’ve all experienced loss and struggle\, and there’s no way we would have made it through without our loved ones’ help.” \nComprised of Zac Barnett (vocals)\, James Adam Shelley (guitar/banjo)\, Dave Rublin (bass)\, and Matt Sanchez (drums)\, the guys met while attending Berklee College of Music and quickly inked a deal with Island Records in 2012 after relocating to New York. Oh\, What a Life\, the band’s first long-player released in early 2014\, gave us “Believer” and their eventual breakthrough hit “Best Day of My Life\,” which went 6x platinum worldwide\, and quickly peaked on the Billboard 200 at number 14. In 2016\, their follow-up studio album What We Live For\, boasted another Top 20 Hit\, “Go Big or Go Home.” \nTransparent lyricism and a sense of genuine enthusiasm have always set American Authors apart\, rendering them one of the most exciting bands of the last few years. Their songwriting process is uniquely collaborative\, with band members able and willing to play every instrument. Now back with new inspiration\, American Authors kick off the summer with “Deep Water\,” which is just the beginning of a parade of new music to come.
URL:https://star98radio.com/event/american-authors/
LOCATION:Knitting Factory Concert House\, 416 S. 9th St.\, Boise\, ID\, 83702\, United States
CATEGORIES:Concerts
END:VEVENT
BEGIN:VEVENT
DTSTART;TZID=America/Denver:20200208T100000
DTEND;TZID=America/Denver:20200208T130000
DTSTAMP:20260419T064712
CREATED:20200129T185145Z
LAST-MODIFIED:20200129T185654Z
UID:61844-1581156000-1581166800@star98radio.com
SUMMARY:Love Run 2020
DESCRIPTION:\,\n\n \nThe Love Run was set up to help The Williams Family. Shelby was diagnosed with Central nervous system Lymphoma (Brain Cancer) in October of 2019. She is currently being treated with chemo. She is an amazing wife & mother of 3 active boys who attend Pocatello\, Hawthorne\, and Chubbuck. Lets get out and show Shelby some LOVE!
URL:https://star98radio.com/event/love-run-2020/
LOCATION:Reed Gym\, ISU Campus\, 1535 E Terry St\, Pocatello\, 83201\, United States
END:VEVENT
BEGIN:VEVENT
DTSTART;TZID=America/Denver:20191212T200000
DTEND;TZID=America/Denver:20191212T233000
DTSTAMP:20260419T064712
CREATED:20191119T214035Z
LAST-MODIFIED:20191119T214035Z
UID:61792-1576180800-1576193400@star98radio.com
SUMMARY:SNOOP DOGG
DESCRIPTION:SNOOP DOGG – I Wanna Thank Me Tour  \nFeaturing: Warren G\, RJMrLA\, and Trae Tha Truth \nMust be 21+
URL:https://star98radio.com/event/snoop-dogg/
LOCATION:The Depot\, 400 W S Temple\, Salt Lake City\, UT\, United States
CATEGORIES:Concerts
END:VEVENT
BEGIN:VEVENT
DTSTART;TZID=America/Denver:20191202T180000
DTEND;TZID=America/Denver:20191202T230000
DTSTAMP:20260419T064712
CREATED:20191119T213609Z
LAST-MODIFIED:20191119T213609Z
UID:61789-1575309600-1575327600@star98radio.com
SUMMARY:THE 1975
DESCRIPTION:The 1975\nWith Special Guests\nI Don’t Know How But They Found Me \nDoors: 6:00 PM\nShow: 7:00 PM \nTickets On Sale 10/18/19 10:00 AM\n21+ Premier Seating Upgrade (must already have a GA ticket): Email paul@thecomplexslc.com
URL:https://star98radio.com/event/the-1975-2/
LOCATION:The Complex\, 536 West 100 South\, Salt Lake City\, UT\, United States
CATEGORIES:Concerts
END:VEVENT
BEGIN:VEVENT
DTSTART;TZID=America/Denver:20191130T193000
DTEND;TZID=America/Denver:20191130T230000
DTSTAMP:20260419T064712
CREATED:20191106T172219Z
LAST-MODIFIED:20191107T204143Z
UID:61749-1575142200-1575154800@star98radio.com
SUMMARY:DAVID ARCHULETA
DESCRIPTION:
URL:https://star98radio.com/event/david-archuleta/
LOCATION:Capitol Theatre\, 50 W 200 S\, Salt Lake City\, UT\, 84101\, United States
CATEGORIES:Concerts
END:VEVENT
BEGIN:VEVENT
DTSTART;TZID=America/Denver:20191121T190000
DTEND;TZID=America/Denver:20191121T233000
DTSTAMP:20260419T064712
CREATED:20190218T163844Z
LAST-MODIFIED:20191107T204047Z
UID:61391-1574362800-1574379000@star98radio.com
SUMMARY:CHAINSMOKERS & 5SOS
DESCRIPTION:The Chainsmokers/5 Seconds of Summer/Lennon Stella: World War Joy Tour. \nThis is an All Ages Show.
URL:https://star98radio.com/event/the-chainsmokers-5-seconds-of-summer/
LOCATION:Delta Center\, 301 West South Temple\, Salt Lake City\, UT\, 84101\, United States
CATEGORIES:Concerts
END:VEVENT
BEGIN:VEVENT
DTSTART;TZID=America/Denver:20191116T090000
DTEND;TZID=America/Denver:20191116T170000
DTSTAMP:20260419T064712
CREATED:20191107T192839Z
LAST-MODIFIED:20191107T193225Z
UID:61754-1573894800-1573923600@star98radio.com
SUMMARY:The Christmas Factory Craft Fair
DESCRIPTION:
URL:https://star98radio.com/event/the-christmas-factory-craft-fair/
LOCATION:Thunder Ridge High School\, 4941 1st Street\, Idaho Falls\, ID\, 83401\, United States
CATEGORIES:Local Events
ORGANIZER;CN="The Christmas Factory":MAILTO:thechristmasfactorycf@gmail.com
END:VEVENT
BEGIN:VEVENT
DTSTART;TZID=America/Denver:20191111T200000
DTEND;TZID=America/Denver:20191111T230000
DTSTAMP:20260419T064712
CREATED:20191106T170739Z
LAST-MODIFIED:20191106T170739Z
UID:61746-1573502400-1573513200@star98radio.com
SUMMARY:POST MALONE
DESCRIPTION:Post Malone – Runaway Tour feat. Swae Lee
URL:https://star98radio.com/event/post-malone-2/
LOCATION:Delta Center\, 301 West South Temple\, Salt Lake City\, UT\, 84101\, United States
CATEGORIES:Concerts
END:VEVENT
BEGIN:VEVENT
DTSTART;TZID=America/Denver:20191106T190000
DTEND;TZID=America/Denver:20191106T200000
DTSTAMP:20260419T064712
CREATED:20191024T212609Z
LAST-MODIFIED:20191024T212609Z
UID:61736-1573066800-1573070400@star98radio.com
SUMMARY:Veteran's Day Recognition Ceremony
DESCRIPTION:Come join the City of Iona in honoring our nation’s Veterans of the Armed Forces on Wednesday\, November 6th 2019 at 7PM in the Thunder Ridge High School Performing Arts Center. Light refreshments will be served. The keynote speaker will be the Honorable Mike Simpson\, US Congressman for Idaho’s 2nd District. \nMore Information will be included in City of Iona’s November Newsletter.
URL:https://star98radio.com/event/veterans-day-recognition-ceremony/
LOCATION:Thunder Ridge High School Performing Arts Center\, 4941 1st Street\, Idaho Falls\, ID\, 83401\, United States
END:VEVENT
BEGIN:VEVENT
DTSTART;TZID=America/Denver:20191003T193000
DTEND;TZID=America/Denver:20191003T230000
DTSTAMP:20260419T064712
CREATED:20190501T151941Z
LAST-MODIFIED:20190501T151941Z
UID:61468-1570131000-1570143600@star98radio.com
SUMMARY:JONAS BROTHERS & BEBE REXHA
DESCRIPTION:Jonas Brothers\nHappiness Begins Tour\nJonas Brothers announce first North American Headline Tour in nearly a decade. \nThe Jonas Brothers will bring their Happiness Begins Tour to Vivint Smart Home Arena on Thursday\, October 3 with special guests Bebe Rexha & Jordan McGraw. \nTickets go on sale on Friday\, May 10 at 10am.
URL:https://star98radio.com/event/jonas-brothers-bebe-rexha/
LOCATION:Delta Center\, 301 West South Temple\, Salt Lake City\, UT\, 84101\, United States
CATEGORIES:Concerts
END:VEVENT
BEGIN:VEVENT
DTSTART;TZID=America/Denver:20190914T090000
DTEND;TZID=America/Denver:20190914T150000
DTSTAMP:20260419T064712
CREATED:20190417T161916Z
LAST-MODIFIED:20190417T161916Z
UID:61457-1568451600-1568473200@star98radio.com
SUMMARY:Grand Teton Council and Boy Scouts of America: Stem-O-Rama
DESCRIPTION:
URL:https://star98radio.com/event/grand-teton-council-and-boy-scouts-of-america-stem-o-rama/
LOCATION:Idaho Falls Service Center\, 3910 South Yellowstone Hwy\, Idaho Falls\, ID\, 83404\, United States
CATEGORIES:Local Events
END:VEVENT
BEGIN:VEVENT
DTSTART;TZID=America/Denver:20190810T120000
DTEND;TZID=America/Denver:20190810T220000
DTSTAMP:20260419T064712
CREATED:20190729T215322Z
LAST-MODIFIED:20190729T215322Z
UID:61639-1565438400-1565474400@star98radio.com
SUMMARY:Idaho State Riding Association: State Meet
DESCRIPTION:The War Bonnet Junior Posse is hosting this August’s Idaho State Riding Association State Meet. Come to Sandy Downs August 10th for the day show (12pm-3pm) or night show (7pm-10pm) and enjoy concessions and FREE admission. Support local youth riders and come on down!
URL:https://star98radio.com/event/idaho-state-riding-association-state-meet/
LOCATION:Sandy Downs\, Idaho Falls\, Idaho
END:VEVENT
BEGIN:VEVENT
DTSTART;TZID=America/Denver:20190810T120000
DTEND;TZID=America/Denver:20190810T160000
DTSTAMP:20260419T064712
CREATED:20190725T203410Z
LAST-MODIFIED:20190725T203722Z
UID:61609-1565438400-1565452800@star98radio.com
SUMMARY:Arroyo Family Pocatello Thank You Event
DESCRIPTION:After being homeless for some time\, the Arroyo Family was assisted by Pocatello locals in getting a home. To thank the community for their help\, the Arroyo Family is hosting a barbecue on Park Avenue open to all of the community. This is a potluck event\, so please bring a dish if you plan to attend. The Arroyos thank you in advance!
URL:https://star98radio.com/event/arroyo-family-pocatello-thank-you-event/
LOCATION:241 Park Avenue\, 241 Park Avenue\, Pocatello\, ID\, 83201\, United States
END:VEVENT
BEGIN:VEVENT
DTSTART;TZID=America/Denver:20190810T090000
DTEND;TZID=America/Denver:20190810T140000
DTSTAMP:20260419T064712
CREATED:20190731T165632Z
LAST-MODIFIED:20190731T165632Z
UID:61642-1565427600-1565445600@star98radio.com
SUMMARY:NRA Women on Target Clinic
DESCRIPTION:The Women-on-Target is a women only program that which is designed to provide a hands-on introduction to the safe handling and proper use of a handgun. \nThis course is 5 hours long and includes classroom\, range time and demonstrations of various handgun competition categories. Students will receive a manual and will learn: \nNRA’s rules for safe gun handling \nPistol model parts and operation \nAmmunition types and operation \nShooting fundamentals \nHow to cleaning a pistol \nFirearm storage \nOpportunities for skill development \nThis is a great opportunity to learn about and shoot a handgun in a safe\, low stress environment with your family members and friends. \n 
URL:https://star98radio.com/event/nra-women-on-target-clinic/
LOCATION:Eagle Rock Gun School & Range\, 10061 W Broadway St\, Idaho Falls\, ID\, 83402\, United States
ORGANIZER;CN="Eagle Rock Gun School & Range":MAILTO:llang@cableone.net
END:VEVENT
BEGIN:VEVENT
DTSTART;TZID=America/Denver:20190807T200000
DTEND;TZID=America/Denver:20190807T230000
DTSTAMP:20260419T064712
CREATED:20181109T232049Z
LAST-MODIFIED:20181109T232049Z
UID:61254-1565208000-1565218800@star98radio.com
SUMMARY:BACKSTREET BOYS
DESCRIPTION:Backstreet’s Back! Don’t miss the Backstreet Boys in their biggest tour in 18 years — the DNA World Tour hits Vivint Smart Home Arena on Wednesday\, August 7.
URL:https://star98radio.com/event/backstreet-boys/
LOCATION:Delta Center\, 301 West South Temple\, Salt Lake City\, UT\, 84101\, United States
CATEGORIES:Concerts
END:VEVENT
BEGIN:VEVENT
DTSTART;TZID=America/Denver:20190724T200000
DTEND;TZID=America/Denver:20190724T223000
DTSTAMP:20260419T064712
CREATED:20190204T230205Z
LAST-MODIFIED:20190204T230205Z
UID:61381-1563998400-1564007400@star98radio.com
SUMMARY:NORAH JONES
DESCRIPTION:Norah Jones\nWednesday Jul 24\, 2019\nDoors: 6:30 PM\nShow: 8:00 PM \nAll Ages
URL:https://star98radio.com/event/norah-jones/
LOCATION:KettleHouse Amphitheater\, 605 Cold Smoke Lane\, Bonner\, MT\, 59823\, United States
CATEGORIES:Concerts
END:VEVENT
BEGIN:VEVENT
DTSTART;TZID=America/Denver:20190723T203000
DTEND;TZID=America/Denver:20190723T230000
DTSTAMP:20260419T064712
CREATED:20190204T224228Z
LAST-MODIFIED:20190204T230248Z
UID:61378-1563913800-1563922800@star98radio.com
SUMMARY:NORAH  JONES
DESCRIPTION:July 23\, 2019 – 8:00pm – Theatre at the Brick \n8 ticket limit per transaction for all presales & onsale. \nAll seating is reserved. \nDoors for the show open at 7:00pm \nWill Call tickets are available for pickup at the South Entrance of the Brick Breeden Fieldhouse beginning at 6:30pm \nPlease have a photo ID if picking up Will Call tickets
URL:https://star98radio.com/event/nora-jones-3/
LOCATION:Brick Breeden Fieldhouse Theatre\, 1 Bobcat Circle\, Bozeman\, MT\, 59717\, United States
CATEGORIES:Concerts
END:VEVENT
BEGIN:VEVENT
DTSTART;TZID=America/Denver:20190721T200000
DTEND;TZID=America/Denver:20190721T230000
DTSTAMP:20260419T064712
CREATED:20190204T223752Z
LAST-MODIFIED:20190204T230432Z
UID:61375-1563739200-1563750000@star98radio.com
SUMMARY:NORAH JONES
DESCRIPTION:Norah Jones\nSunday Jul 21\, 2019\nDoors: 7:00 PM\nShow: 8:00 PM \nAll Ages
URL:https://star98radio.com/event/nora-jones-2/
LOCATION:Walk Festival Hall\, 3259 McCollister Drive\, Teton Village\, WY\, 83025\, United States
CATEGORIES:Concerts
END:VEVENT
BEGIN:VEVENT
DTSTART;TZID=America/Denver:20190720T201500
DTEND;TZID=America/Denver:20190720T223000
DTSTAMP:20260419T064712
CREATED:20190204T223329Z
LAST-MODIFIED:20190204T230511Z
UID:61372-1563653700-1563661800@star98radio.com
SUMMARY:NORAH JONES
DESCRIPTION:Come spend an evening with 9-time GRAMMY winner Norah Jones when she performs live July 20th at the Sandy Amphitheater! \n\nSpecial Information On Sale: Feb. 1 @ 10am. Rain or shine event.
URL:https://star98radio.com/event/nora-jones/
LOCATION:Sandy City Amphitheater\, 1245 E. 9400 S.\, Sandy\, UT\, 84070\, United States
CATEGORIES:Concerts
END:VEVENT
BEGIN:VEVENT
DTSTART;TZID=America/Denver:20190716T193000
DTEND;TZID=America/Denver:20190716T230000
DTSTAMP:20260419T064712
CREATED:20181022T222534Z
LAST-MODIFIED:20181022T222534Z
UID:61216-1563305400-1563318000@star98radio.com
SUMMARY:SHAWN MEDNDES
DESCRIPTION:Supporting the release of his self-titled third album\, multi-platinum and chart-topping singer/songwriter Shawn Mendes will hit the road in 2019 on a global arena tour. “Shawn Mendes: The Tour” will mark his third global headline tour\, following his sold out 2017 arena trek\, kicking off on March 7\, 2019 in Europe.
URL:https://star98radio.com/event/shawn-medndes/
LOCATION:Delta Center\, 301 West South Temple\, Salt Lake City\, UT\, 84101\, United States
CATEGORIES:Concerts
END:VEVENT
BEGIN:VEVENT
DTSTART;TZID=America/Denver:20190713T200000
DTEND;TZID=America/Denver:20190713T230000
DTSTAMP:20260419T064712
CREATED:20190116T204501Z
LAST-MODIFIED:20190116T223612Z
UID:61308-1563048000-1563058800@star98radio.com
SUMMARY:ARIANA GRANDE
DESCRIPTION:Due to her recently announced Coachella headline appearance\, Ariana Grande’s Sweetener World Tour stop at Vivint Smart Home Arena has been rescheduled to July 13. All tickets for the April 22 show will be honored for the July 13 rescheduled date.
URL:https://star98radio.com/event/ariana-grande/
LOCATION:Delta Center\, 301 West South Temple\, Salt Lake City\, UT\, 84101\, United States
CATEGORIES:Concerts
END:VEVENT
BEGIN:VEVENT
DTSTART;TZID=America/Denver:20190712T190000
DTEND;TZID=America/Denver:20190712T230000
DTSTAMP:20260419T064712
CREATED:20190116T224205Z
LAST-MODIFIED:20190116T224205Z
UID:61317-1562958000-1562972400@star98radio.com
SUMMARY:HUGH JACKMAN
DESCRIPTION:Due to overwhelming demand\, Hugh Jackman will be playing an additional show at Vivint Smart Home Arena on Friday\, July 12\, 2019.
URL:https://star98radio.com/event/hugh-jackman-2/
LOCATION:Delta Center\, 301 West South Temple\, Salt Lake City\, UT\, 84101\, United States
CATEGORIES:Concerts
END:VEVENT
BEGIN:VEVENT
DTSTART;TZID=America/Denver:20190711T200000
DTEND;TZID=America/Denver:20190711T233000
DTSTAMP:20260419T064712
CREATED:20181129T172904Z
LAST-MODIFIED:20181129T172904Z
UID:61274-1562875200-1562887800@star98radio.com
SUMMARY:HUGH JACKMAN
DESCRIPTION:The Man. The Music. The Show.\nThe multi-talented Hugh Jackman brings a special evening of songs from broadway and film to Vivint Smart Home Arena on July 11.
URL:https://star98radio.com/event/hugh-jackman/
LOCATION:Delta Center\, 301 West South Temple\, Salt Lake City\, UT\, 84101\, United States
CATEGORIES:Concerts
END:VEVENT
BEGIN:VEVENT
DTSTART;TZID=America/Denver:20190706T090000
DTEND;TZID=America/Denver:20190706T170000
DTSTAMP:20260419T064712
CREATED:20190625T200141Z
LAST-MODIFIED:20190625T200141Z
UID:61545-1562403600-1562432400@star98radio.com
SUMMARY:Eagle Rock Gun School & Range Independence Day Free Range
DESCRIPTION:EAGLE ROCK GUN SCHOOL AND RANGE IS A NOT-FOR-PROFIT ORGANIZATION\nCELEBRATING OUR COUNTRY’S INDEPENDENCE ON SATURDAY\, JULY 6TH AND IS INVITING\nTHE PUBLIC TO A DAY OF FREE SHOOTING AT OUR RANGE FROM 9 AM TO 5 PM. FREE\nHAMBURGERS\, HOT DOGS AND FIXINGS WILL BE SERVED FROM 11AM TO 2PM.\nCOME ON OUT\, BRING THE WHOLE FAMILY\, AND ENJOY A DAY OF FUN SHOOTING\,\nAND GREAT FOOD. \nFOR INFORMATION ABOUT OUR RANGE GO TO:\nhttp://www.eaglerockgunschool.com
URL:https://star98radio.com/event/eagle-rock-gun-school-range-independence-day-free-range/
LOCATION:Eagle Rock Gun School & Range\, 10061 W Broadway St\, Idaho Falls\, ID\, 83402\, United States
CATEGORIES:Local Events
ORGANIZER;CN="Eagle Rock Gun School & Range":MAILTO:llang@cableone.net
END:VEVENT
END:VCALENDAR